BEGIN:VCALENDAR
VERSION:2.0
PRODID:-//Forte di Bard - ECPv6.15.20//NONSGML v1.0//EN
CALSCALE:GREGORIAN
METHOD:PUBLISH
X-ORIGINAL-URL:https://www.fortedibard.it
X-WR-CALDESC:Eventi per Forte di Bard
REFRESH-INTERVAL;VALUE=DURATION:PT1H
X-Robots-Tag:noindex
X-PUBLISHED-TTL:PT1H
BEGIN:VTIMEZONE
TZID:Europe/Rome
BEGIN:DAYLIGHT
TZOFFSETFROM:+0100
TZOFFSETTO:+0200
TZNAME:CEST
DTSTART:20250330T010000
END:DAYLIGHT
BEGIN:STANDARD
TZOFFSETFROM:+0200
TZOFFSETTO:+0100
TZNAME:CET
DTSTART:20251026T010000
END:STANDARD
BEGIN:DAYLIGHT
TZOFFSETFROM:+0100
TZOFFSETTO:+0200
TZNAME:CEST
DTSTART:20260329T010000
END:DAYLIGHT
BEGIN:STANDARD
TZOFFSETFROM:+0200
TZOFFSETTO:+0100
TZNAME:CET
DTSTART:20261025T010000
END:STANDARD
BEGIN:DAYLIGHT
TZOFFSETFROM:+0100
TZOFFSETTO:+0200
TZNAME:CEST
DTSTART:20270328T010000
END:DAYLIGHT
BEGIN:STANDARD
TZOFFSETFROM:+0200
TZOFFSETTO:+0100
TZNAME:CET
DTSTART:20271031T010000
END:STANDARD
END:VTIMEZONE
BEGIN:VEVENT
DTSTART;TZID=Europe/Rome:20260425T213000
DTEND;TZID=Europe/Rome:20260425T233000
DTSTAMP:20260421T121334
CREATED:20260212T085844Z
LAST-MODIFIED:20260421T084340Z
UID:10000125-1777152600-1777159800@www.fortedibard.it
SUMMARY:Se mi rilasso... collasso. La Bandabardò in concerto il 25 aprile
DESCRIPTION:Dopo venticinque anni Se mi rilasso… collasso\, primo album live di Bandabardò – band che proprio dal vivo trova la sua dimensione ideale – torna sul palco per un tour celebrativo con la ricchezza sonora esplosiva di sempre. Nell’ambito della programmazione di eventi della primavera 2026\, il Forte di Bard ospiterà il concerto della Bandabardò sabato 25 aprile\, alle ore 21.30\, nella tensostruttura che verrà allestita in Piazza d’Armi (apertura cancelli alle ore 19.30). \nSe mi rilasso… collasso raccoglie i personaggi\, le immagini e le atmosfere che da sempre abitano la produzione musicale di Bandabardò affidando l’apertura del disco a Manifesto\, l’unico brano inedito. L’inno all’anticonformismo\, che è nel tempo diventato uno dei loro brani più iconici\, è anche quello che segna la collaborazione con Riccardo Sinigallia che lo ha prodotto. \nBIGLIETTI\nPrevendita su ticketone.it\nBiglietto unico 18\,00 euro +prevendita\nGratuità bimbi 0-6 anni. \nIl ristorante La Polveriera sarà aperto dalle 19.30 alle 21.30 su prenotazione.\nContatti: prenotazioni@fortedibard.it\nDurante la serata sarà inoltre disponibile un servizio bar nell’area del concerto.
URL:https://www.fortedibard.it/evento/se-mi-rilasso-collasso-la-bandabardo-in-concerto-il-25-aprile/
ATTACH;FMTTYPE=image/jpeg:https://www.fortedibard.it/wp-content/uploads/2026/02/800x600_bandabardo.jpg
END:VEVENT
BEGIN:VEVENT
DTSTART;TZID=Europe/Rome:20260426T093000
DTEND;TZID=Europe/Rome:20260426T180000
DTSTAMP:20260421T121334
CREATED:20260414T102545Z
LAST-MODIFIED:20260415T093433Z
UID:10000142-1777195800-1777226400@www.fortedibard.it
SUMMARY:Orti e pollai di montagna in scena nel Borgo medievale di Donnas
DESCRIPTION:Domenica 26 aprile 2026\, il borgo medievale di Donnas\, a 3 km dal Forte di Bard\, si trasforma in una vetrina a cielo aperto per Lou Courtì e lou poulayé – Orti e pollai di montagna. Un evento imperdibile per chi ama lo stile di vita rurale\, la biodiversità e i prodotti genuini della Valle d’Aosta. \nCosa ti aspetta (ore 9.30 – 18.00)\nMercato agricolo e biodiversità: passeggia tra gli stand curati da Coldiretti e scopri il meglio dei vivai locali\, prodotti a km zero e una curiosa mostra di specie avicole e conigli.\nSapori e show cooking: lasciati tentare dalle degustazioni dei Presìdi Slow Food e assisti a coinvolgenti show cooking per imparare i segreti della cucina di montagna.\nLaboratori e divertimento: un programma ricchissimo per le famiglie con laboratori didattici per bambini e intrattenimento musicale per tutta la giornata. \nImparare dalla terra\nCurioso di pollice verde? Esperti dell’Institut Agricole Régional e del Centro Agricolo Dimostrativo e Sperimentale di Saint-Marcel guideranno il pubblico nel riconoscimento delle piante spontanee e nelle tecniche di semina e trapianto\, svelandoti il legame magico tra semi e spighe di cereali. \nEscursioni e Territorio\nÈ possibile rendere la giornata ancora più speciale con una passeggiata guidata gratuita dal Forte di Bard fino al borgo di Donnas:\nOrari: partenze alle ore 11.00 e alle 14.00.\nPrenotazione obbligatoria: inviare una mail a prenotazioni@fortedibard.it \nInfo & Logistica\nUn servizio navetta dalle 11.00 alle 18.00 collegherà il Forte di Bard all’evento (fermata presso il parcheggio Ex Antiche Industrie). \nPromozione\nChi farà acquisti al mercatino riceverà una card per l’ingresso omaggio alla mostra Nutrire il mondo\, la sfida globale dell’alimentazione\, allestita al Forte di Bard.
URL:https://www.fortedibard.it/evento/orti-e-pollai-di-montagna-in-scena-nel-borgo-medievale-di-donnas/
ATTACH;FMTTYPE=image/jpeg:https://www.fortedibard.it/wp-content/uploads/2026/04/800x600_fiori.jpg
END:VEVENT
END:VCALENDAR