BEGIN:VCALENDAR
VERSION:2.0
PRODID:-//Forte di Bard - ECPv6.15.20//NONSGML v1.0//EN
CALSCALE:GREGORIAN
METHOD:PUBLISH
X-ORIGINAL-URL:https://www.fortedibard.it
X-WR-CALDESC:Eventi per Forte di Bard
REFRESH-INTERVAL;VALUE=DURATION:PT1H
X-Robots-Tag:noindex
X-PUBLISHED-TTL:PT1H
BEGIN:VTIMEZONE
TZID:Europe/Rome
BEGIN:DAYLIGHT
TZOFFSETFROM:+0100
TZOFFSETTO:+0200
TZNAME:CEST
DTSTART:20250330T010000
END:DAYLIGHT
BEGIN:STANDARD
TZOFFSETFROM:+0200
TZOFFSETTO:+0100
TZNAME:CET
DTSTART:20251026T010000
END:STANDARD
BEGIN:DAYLIGHT
TZOFFSETFROM:+0100
TZOFFSETTO:+0200
TZNAME:CEST
DTSTART:20260329T010000
END:DAYLIGHT
BEGIN:STANDARD
TZOFFSETFROM:+0200
TZOFFSETTO:+0100
TZNAME:CET
DTSTART:20261025T010000
END:STANDARD
BEGIN:DAYLIGHT
TZOFFSETFROM:+0100
TZOFFSETTO:+0200
TZNAME:CEST
DTSTART:20270328T010000
END:DAYLIGHT
BEGIN:STANDARD
TZOFFSETFROM:+0200
TZOFFSETTO:+0100
TZNAME:CET
DTSTART:20271031T010000
END:STANDARD
END:VTIMEZONE
BEGIN:VEVENT
DTSTART;TZID=Europe/Rome:20260425T213000
DTEND;TZID=Europe/Rome:20260425T233000
DTSTAMP:20260421T150725
CREATED:20260212T085844Z
LAST-MODIFIED:20260421T084340Z
UID:10000125-1777152600-1777159800@www.fortedibard.it
SUMMARY:Se mi rilasso... collasso. La Bandabardò in concerto il 25 aprile
DESCRIPTION:Dopo venticinque anni Se mi rilasso… collasso\, primo album live di Bandabardò – band che proprio dal vivo trova la sua dimensione ideale – torna sul palco per un tour celebrativo con la ricchezza sonora esplosiva di sempre. Nell’ambito della programmazione di eventi della primavera 2026\, il Forte di Bard ospiterà il concerto della Bandabardò sabato 25 aprile\, alle ore 21.30\, nella tensostruttura che verrà allestita in Piazza d’Armi (apertura cancelli alle ore 19.30). \nSe mi rilasso… collasso raccoglie i personaggi\, le immagini e le atmosfere che da sempre abitano la produzione musicale di Bandabardò affidando l’apertura del disco a Manifesto\, l’unico brano inedito. L’inno all’anticonformismo\, che è nel tempo diventato uno dei loro brani più iconici\, è anche quello che segna la collaborazione con Riccardo Sinigallia che lo ha prodotto. \nBIGLIETTI\nPrevendita su ticketone.it\nBiglietto unico 18\,00 euro +prevendita\nGratuità bimbi 0-6 anni. \nIl ristorante La Polveriera sarà aperto dalle 19.30 alle 21.30 su prenotazione.\nContatti: prenotazioni@fortedibard.it\nDurante la serata sarà inoltre disponibile un servizio bar nell’area del concerto.
URL:https://www.fortedibard.it/evento/se-mi-rilasso-collasso-la-bandabardo-in-concerto-il-25-aprile/
ATTACH;FMTTYPE=image/jpeg:https://www.fortedibard.it/wp-content/uploads/2026/02/800x600_bandabardo.jpg
END:VEVENT
BEGIN:VEVENT
DTSTART;TZID=Europe/Rome:20260426T093000
DTEND;TZID=Europe/Rome:20260426T180000
DTSTAMP:20260421T150725
CREATED:20260414T102545Z
LAST-MODIFIED:20260415T093433Z
UID:10000142-1777195800-1777226400@www.fortedibard.it
SUMMARY:Orti e pollai di montagna in scena nel Borgo medievale di Donnas
DESCRIPTION:Domenica 26 aprile 2026\, il borgo medievale di Donnas\, a 3 km dal Forte di Bard\, si trasforma in una vetrina a cielo aperto per Lou Courtì e lou poulayé – Orti e pollai di montagna. Un evento imperdibile per chi ama lo stile di vita rurale\, la biodiversità e i prodotti genuini della Valle d’Aosta. \nCosa ti aspetta (ore 9.30 – 18.00)\nMercato agricolo e biodiversità: passeggia tra gli stand curati da Coldiretti e scopri il meglio dei vivai locali\, prodotti a km zero e una curiosa mostra di specie avicole e conigli.\nSapori e show cooking: lasciati tentare dalle degustazioni dei Presìdi Slow Food e assisti a coinvolgenti show cooking per imparare i segreti della cucina di montagna.\nLaboratori e divertimento: un programma ricchissimo per le famiglie con laboratori didattici per bambini e intrattenimento musicale per tutta la giornata. \nImparare dalla terra\nCurioso di pollice verde? Esperti dell’Institut Agricole Régional e del Centro Agricolo Dimostrativo e Sperimentale di Saint-Marcel guideranno il pubblico nel riconoscimento delle piante spontanee e nelle tecniche di semina e trapianto\, svelandoti il legame magico tra semi e spighe di cereali. \nEscursioni e Territorio\nÈ possibile rendere la giornata ancora più speciale con una passeggiata guidata gratuita dal Forte di Bard fino al borgo di Donnas:\nOrari: partenze alle ore 11.00 e alle 14.00.\nPrenotazione obbligatoria: inviare una mail a prenotazioni@fortedibard.it \nInfo & Logistica\nUn servizio navetta dalle 11.00 alle 18.00 collegherà il Forte di Bard all’evento (fermata presso il parcheggio Ex Antiche Industrie). \nPromozione\nChi farà acquisti al mercatino riceverà una card per l’ingresso omaggio alla mostra Nutrire il mondo\, la sfida globale dell’alimentazione\, allestita al Forte di Bard.
URL:https://www.fortedibard.it/evento/orti-e-pollai-di-montagna-in-scena-nel-borgo-medievale-di-donnas/
ATTACH;FMTTYPE=image/jpeg:https://www.fortedibard.it/wp-content/uploads/2026/04/800x600_fiori.jpg
END:VEVENT
BEGIN:VEVENT
DTSTART;TZID=Europe/Rome:20260502T160000
DTEND;TZID=Europe/Rome:20260502T180000
DTSTAMP:20260421T150725
CREATED:20260416T115852Z
LAST-MODIFIED:20260421T114413Z
UID:10000144-1777737600-1777744800@www.fortedibard.it
SUMMARY:Conferenza. Storie di lupi e di orsi con Stefano Unterthiner
DESCRIPTION:Il fotografo naturalista Stefano Unterthiner è protagonista della conferenza Storie di lupi e di orsi promossa dall’Associazione Forte di Bard in occasione della conclusione della mostra Una finestra sull’Artico visitabile sino a domenica 3 maggio. L’appuntamento è per sabato 2 maggio 2026\, alle ore 16.00\, nella sala Archi Candidi della fortezza. Unterthiner racconterà come è nata la mostra Una finestra sull’Artico e presenterà il suo nuovo libro Le montagne del lupo. Dagli Appennini alle Alpi\, dal Parco nazionale d’Abruzzo\, Lazio e Molise a quello del Gran Paradiso: un viaggio intenso e appassionato sognando l’incontro con un lupo. Un poetico ritratto delle due aree protette più importanti e antiche d’Italia. \nPrenotazione obbligatoria:\nprenotazioni@fortedibard.it\nT. 0125 833811 \nAccesso incluso nel biglietto di ingresso al Forte: 15\,00 euro\nIl biglietto dà diritto all’ingresso alla conferenza e sino a tre spazi espositivi a scelta. \n  \nfoto. © Stefano Unterthiner
URL:https://www.fortedibard.it/evento/conferenza-storie-di-lupi-e-di-orsi-con-stefano-unterthiner/
ATTACH;FMTTYPE=image/jpeg:https://www.fortedibard.it/wp-content/uploads/2026/04/800x600_artico.jpg
END:VEVENT
BEGIN:VEVENT
DTSTART;TZID=Europe/Rome:20260704T213000
DTEND;TZID=Europe/Rome:20260704T233000
DTSTAMP:20260421T150725
CREATED:20260317T093739Z
LAST-MODIFIED:20260317T093739Z
UID:10000135-1783200600-1783207800@www.fortedibard.it
SUMMARY:Il summer tour di Arisa al Forte di Bard sabato 4 luglio
DESCRIPTION:Reduce da un Sanremo che l’ha vista protagonista con Magica Favola — tra i cinque finalisti in gara – Arisa arriva al Forte di Bard con il suo tour estivo sabato 4 luglio 2026\, alle ore 21.30. Sul palco Arisa porterà alcuni dei brani che hanno segnato il suo percorso artistico – da Sincerità a La notte\, fino a Controvento\, vincitrice del Festival di Sanremo 2014 – insieme a Magica Favola e ad altre canzoni inedite che faranno parte del nuovo album Foto Mosse\, in uscita il 17 aprile\, progetto che segna un nuovo capitolo della sua carriera e che verrà presentato dal vivo per la prima volta proprio in questi concerti. \nBIGLIETTI\nPrevendite su Ticketone.it
URL:https://www.fortedibard.it/evento/il-summer-tour-di-arisa-al-forte-di-bard-sabato-4-luglio/
ATTACH;FMTTYPE=image/jpeg:https://www.fortedibard.it/wp-content/uploads/2026/03/800x600_arisa.jpg
END:VEVENT
BEGIN:VEVENT
DTSTART;TZID=Europe/Rome:20260709T213000
DTEND;TZID=Europe/Rome:20260709T230000
DTSTAMP:20260421T150725
CREATED:20260409T132625Z
LAST-MODIFIED:20260409T133358Z
UID:10000141-1783632600-1783638000@www.fortedibard.it
SUMMARY:Paolo Ruffini: il Babysitter (quando diventerai piccolo capirai)
DESCRIPTION:Giovedì 9 luglio 2026 Paolo Ruffini porterà nella Piazza d’Armi del Forte di Bard il suo spettacolo Il Babysitter (quando diventerai piccolo capirai)\, nell’ambito della rassegna Aosta Classica al Forte di Bard. Si tratta di uno spettacolo teatrale unico\, diretto da Claudia Campolongo e nato dall’omonimo podcast di successo ideato e condotto da Paolo Ruffini. \nSul palco\, tre straordinari bambini – Isabel\, Leonardo e Nicholas – accompagnano il pubblico in un viaggio ironico\, poetico e imprevedibile nel mondo dell’infanzia.\nAccanto alla regia\, Claudia Campolongo firma anche le musiche dal vivo\, con il suo pianoforte che accompagna ogni scena\, ogni parola\, ogni emozione.\nSul palco si ride\, si canta e si sogna\, ma soprattutto si riscopre la fede\, quella che solo i bambini sanno vivere davvero: la fede nel Natale\, nell’amore\, nelle persone. \nBIGLIETTI\nPrevendite su Ticketone.it (a partire dalle ore 10.00 di venerdì 10 aprile)\nPrima poltrona: € 36\,50 + prev.\nSeconda poltrona: € 32\,00 + prev.\nTerza poltrona: € 28\,00 + prev. \nLe richieste per spettatori con disabilità motoria devono essere inviate a: info@aostaclassica.it\nVerranno soddisfatte fino ad esaurimento dei posti disponibili.
URL:https://www.fortedibard.it/evento/paolo-ruffini-il-babysitter-quando-diventerai-piccolo-capirai/
ATTACH;FMTTYPE=image/jpeg:https://www.fortedibard.it/wp-content/uploads/2026/04/800x600_Ruffini.jpg
END:VEVENT
BEGIN:VEVENT
DTSTART;TZID=Europe/Rome:20260710T213000
DTEND;TZID=Europe/Rome:20260710T233000
DTSTAMP:20260421T150725
CREATED:20260326T122348Z
LAST-MODIFIED:20260326T122540Z
UID:10000138-1783719000-1783726200@www.fortedibard.it
SUMMARY:Fuori di tela\, il nuovo esilarante show comico di Filippo Caccamo
DESCRIPTION:Filippo Caccamo torna in scena con un progetto originale\, inedito e soprattutto irresistibilmente comico: Fuori di tela. L’appuntamento è per venerdì 10 luglio 2026\, alle ore 21.30\, nella Piazza d’Armi del Forte di Bard\, per la rassegna Estate al Forte 2026. \nCon la sua inconfondibile ironia l’artista costruisce un vero e proprio universo scenico dove\, partendo dall’arte\, si riflette senza accorgersene\, e si viene trascinati da un ritmo serrato fatto di gag fulminanti\, dialoghi esilaranti\, situazioni surreali\, musiche originali\, personaggi e scenografie sorprendenti. Uno spettacolo comico che alterna momenti di comicità pura a squarci più intimi\, senza mai perdere la leggerezza e la sincerità che da sempre contraddistinguono l’artista. \nBIGLIETTI\nPrevendite su Ticketone.it
URL:https://www.fortedibard.it/evento/fuori-di-tela-il-nuovo-esilarante-show-comico-di-filippo-caccamo/
ATTACH;FMTTYPE=image/jpeg:https://www.fortedibard.it/wp-content/uploads/2026/03/800x600_Caccamo.jpg
END:VEVENT
BEGIN:VEVENT
DTSTART;TZID=Europe/Rome:20260712T063000
DTEND;TZID=Europe/Rome:20260712T113000
DTSTAMP:20260421T150725
CREATED:20260311T103534Z
LAST-MODIFIED:20260409T133451Z
UID:10000134-1783837800-1783855800@www.fortedibard.it
SUMMARY:Cosmo ad Aosta Classica al Forte di Bard con Matinée Tour
DESCRIPTION:Domenica 12 luglio 2026\, all’alba\, Cosmo porta al Forte di Bard lo spettacolo Matinée Tour. E’ un concerto previsto alle 6.45 del mattino\, al sorgere del sole\, fedele alla programmazione di molti festival europei che inseriscono appuntamenti di musica elettronica alle prime luci dell’alba\, con lo spirito dell’afterhour. Il live fa parte della rassegna Aosta Classica al Forte di Bard 2026. \nNato il 21 febbraio del 1982\, Marco Jacopo Bianchi\, in arte Cosmo\, è un rivoluzionario della musica nel senso che ha aperto un nuovo filone musicale in grado di fondere la tradizione dei maggiori cantautori italiani con la musica elettronica. Il risultato è assolutamente un qualcosa di visionario e innovativo. E pensare che prima era un professore di storia e italiano. Ma con la doppia vita. Oltre a essere stato frontman dei Drink to Me ha pubblicato cinque album da solista. Ha collaborato con tantissimi artisti: Colapesce (con cui ha realizzato la cover di Mare Mare di Luca Carboni)\, Marrakash\, Paola e Chiara\, La rappresentante di lista\, con i quali ha duettato sul palco di Sanremo. Vive da sempre ad Ivrea (Torino). \nBIGLIETTI\nPosto unico in piedi: € 28\,00 + prev.\nAcquista su Ticketone.it \nLe richieste per spettatori con disabilità motoria devono essere inviate a: info@aostaclassica.it\nVerranno soddisfatte fino ad esaurimento dei posti disponibili.
URL:https://www.fortedibard.it/evento/cosmo-ad-aosta-classica-al-forte-di-bard-con-matinee-tour/
ATTACH;FMTTYPE=image/jpeg:https://www.fortedibard.it/wp-content/uploads/2026/03/800x600_Cosmo.jpg
END:VEVENT
BEGIN:VEVENT
DTSTART;TZID=Europe/Rome:20260718T210000
DTEND;TZID=Europe/Rome:20260718T230000
DTSTAMP:20260421T150725
CREATED:20260305T131134Z
LAST-MODIFIED:20260305T150611Z
UID:10000130-1784408400-1784415600@www.fortedibard.it
SUMMARY:K-Pop music is coming soon: Demon Hunters and Soda Pop
DESCRIPTION:Un’esperienza immersiva che fonde musica\, narrazione e visual: tra battaglie epiche contro forze oscure e l’energia travolgente del K-pop\, regalerà emozioni lo spettacolo K-Pop music and cooming soon\, Demon Hunters and Soda Pop che arriverà al Forte di Bard sabato 18 luglio 2026\, alle ore 21.00. A dare voce e carattere allo show saranno i cantanti dal vivo\, il brillante trio femminile e la straordinaria band dei Soda Pop\, capace di ricreare con autenticità e potenza l’universo sonoro tipico del K-pop. \nA trasformare ogni scena in un vortice coreografico\, un corpo di ballo composto da dieci performer\, che con precisione e dinamismo dà vita a movimenti spettacolari. Ad accompagnare il pubblico con simpatia e spirito giocoso\, la presenza iconica della Mascotte Tiger. \nLo spettacolo prende forma attraverso un allestimento scenico dal forte impatto: luci laser\, ledwall\, effetti speciali luminosi e visual immersivi che trasformano il palco in un ambiente futuristico e sorprendente. \nBIGLIETTI\nIn vendita sul circuito TicketOne
URL:https://www.fortedibard.it/evento/k-pop-music-is-coming-soon-in-demon-hunters-and-soda-pop/
ATTACH;FMTTYPE=image/jpeg:https://www.fortedibard.it/wp-content/uploads/2026/03/800x600_kpop.jpg
END:VEVENT
BEGIN:VEVENT
DTSTART;TZID=Europe/Rome:20260724T213000
DTEND;TZID=Europe/Rome:20260724T233000
DTSTAMP:20260421T150725
CREATED:20260218T144420Z
LAST-MODIFIED:20260409T133541Z
UID:10000127-1784928600-1784935800@www.fortedibard.it
SUMMARY:Daniele Silvestri ad Aosta Classica al Forte con Live acustico
DESCRIPTION:Venerdì 24 luglio 2026 per la rassegna Aosta Classica al Forte di Bard è in programma lo spettacolo di Daniele Silvestri\, Live acustico. La cifra stilistica di Daniele Silvestri coniuga la ricerca di una nuova canzone d’autore con il riscontro del grande pubblico\, mescolando talento e tradizione\, leggerezza espressiva e impegno civile\, come testimoniano canzoni quali Cohiba\, Il mio nemico\, L’appello\, Quali alibi\, A bocca chiusa\, Argentovivo\, al fianco di evergreen come Le cose in comune\, Occhi da Orientale\, Testardo\, Salirò\, La Paranza\, per citarne alcune. \nI tantissimi riconoscimenti ricevuti (Premio Tenco\, David di Donatello\, Recanati\, Amnesty Italia\, Grinzane-Cavour\, Carosone per citarne alcuni) costituiscono un’ulteriore conferma della sua attenzione verso l’altro\, dello sguardo\, della parola e dell’azione sempre vigili sul presente\, solidali\, lucidi\, generosi. I suoi testi sono spesso acrobazie linguistiche balzate fuori dai dieci album in studio: un gioco e un talento che ne fanno uno dei cantautori italiani più studiati dal punto di vista letterario \nBIGLIETTI\nAcquista su Ticketone.it\nPoltrona centrale numerata: € 40\,00 + prev.\nSeconda poltrona: € 38\,00 + prev.\nTerza poltrona: € 34\,00 + prev. \nLe richieste per spettatori con disabilità motoria devono essere inviate a: info@aostaclassica.it\nVerranno soddisfatte fino ad esaurimento dei posti disponibili.
URL:https://www.fortedibard.it/evento/daniele-silvestri-ad-aosta-classica-al-forte-con-live-acustico/
ATTACH;FMTTYPE=image/jpeg:https://www.fortedibard.it/wp-content/uploads/2026/02/800x600_danielesilvestri.jpg
END:VEVENT
BEGIN:VEVENT
DTSTART;TZID=Europe/Rome:20260725T213000
DTEND;TZID=Europe/Rome:20260725T233000
DTSTAMP:20260421T150725
CREATED:20260303T141735Z
LAST-MODIFIED:20260409T133658Z
UID:10000128-1785015000-1785022200@www.fortedibard.it
SUMMARY:Angelo Branduardi: Il Cantico. Omaggio a San Francesco
DESCRIPTION:Angelo Branduardi porterà sul palco della Piazza d’Armi del Forte sabato 25 luglio 2026\, alle ore 21.30\, lo spettacolo Il Cantico. L’evento coprodotto da Aosta Classica e dall’Associazione Forte di Bard celebrare la ricorrenza degli 800 anni dalla morte di San Francesco\, patrono d’Italia. Il Cantico si ispira alla figura solare e vitale del “Poverello di Assisi”\, come racconta lo stesso Branduardi: «La vita di San Francesco d’Assisi è quella di un uomo che diventa Santo… un uomo che sceglie la gioia di vivere\, la raccomanda ai suoi discepoli\, ama la povertà ‘mai disgiunta dalla letizia’… Francesco è oggi più che mai Santo\, ma è anche grande poeta; amava cantare e lo faceva spesso\, anche da solo… io ho provato a ridare voce alle sue parole perché si possa di nuovo cantarle». \nIl Cantico sarà un’occasione per rivivere la profondità degli scritti francescani e lasciarsi ispirare dai temi contemporanei che San Francesco\, già nel suo tempo\, sapeva incarnare con straordinaria modernità: povertà\, ecologia\, amore per la vita e accoglienza. \nBIGLIETTI\nPoltrona centrale numerata: € 50\,00 + prev.\nSeconda poltrona: € 40\,00 + prev.\nTerza poltrona: € 35\,00 + prev.\nAcquista su Ticketone.it \nLe richieste per spettatori con disabilità motoria devono essere inviate a: info@aostaclassica.it\nVerranno soddisfatte fino ad esaurimento dei posti disponibili.
URL:https://www.fortedibard.it/evento/angelo-branduardi-il-cantico-omaggio-a-san-francesco-patrono-ditalia/
ATTACH;FMTTYPE=image/jpeg:https://www.fortedibard.it/wp-content/uploads/2026/03/800x600_branduardi.jpg
END:VEVENT
BEGIN:VEVENT
DTSTART;TZID=Europe/Rome:20260730T213000
DTEND;TZID=Europe/Rome:20260730T233000
DTSTAMP:20260421T150725
CREATED:20260401T114027Z
LAST-MODIFIED:20260409T133815Z
UID:10000139-1785447000-1785454200@www.fortedibard.it
SUMMARY:Il viaggio musicale di Niccolò Fabi ad Aosta Classica al Forte 2026
DESCRIPTION:Niccolò Fabi torna live e sarà tra i protagonisti della rassegna Aosta Classica al Forte di Bard 2026\, giovedì 30 luglio\, alle ore 21.30. Il nuovo tour è un’occasione per attraversare i brani più amati del suo repertorio\, in un racconto musicale capace di unire generazioni diverse. \nOgni concerto è un vero e proprio viaggio\, fatto di silenzi carichi di significato e momenti più energici in cui il pubblico vibra all’unisono. Sul palco insieme a Niccolò Fabi i colleghi e amici da sempre parte del suo universo musicale: Roberto “Bob” Angelini\, Alberto Bianco e Filippo Cornaglia. Insieme a loro anche per quest’esperienza ci saranno Cesare Augusto Giorgini e Giulio Cannavale. \nBIGLIETTI\nPrevendite su Ticketone.it\nPrima poltrona: € 30\,00 + prev.\nSeconda poltrona: € 28\,00 + prev. \nLe richieste per spettatori con disabilità motoria devono essere inviate a: info@aostaclassica.it\nVerranno soddisfatte fino ad esaurimento dei posti disponibili.
URL:https://www.fortedibard.it/evento/il-viaggio-musicale-di-niccolo-fabi-ad-aosta-classica-al-forte-2026/
ATTACH;FMTTYPE=image/jpeg:https://www.fortedibard.it/wp-content/uploads/2026/04/800x600_niccolofabi.jpg
END:VEVENT
BEGIN:VEVENT
DTSTART;TZID=Europe/Rome:20260731T213000
DTEND;TZID=Europe/Rome:20260731T233000
DTSTAMP:20260421T150725
CREATED:20260408T115533Z
LAST-MODIFIED:20260408T115652Z
UID:10000140-1785533400-1785540600@www.fortedibard.it
SUMMARY:Paolo Crepet in Riprendersi l'anima\, un intenso monologo teatrale
DESCRIPTION:Paolo Crepet è tra i protagonisti della sezione Incontri della rassegna Estate al Forte di Bard 2026. In un tempo dominato dall’algoritmo e dall’isolamento digitale\, Paolo Crepet porta in scena Riprendersi l’Anima\, un intenso monologo teatrale dal titolo del suo ultimo libro\, che invita il pubblico a riscoprire la propria identità più autentica. L’appuntamento è per venerdì 31 luglio\, alle ore 21.30\, nella Piazza d’Armi del Forte di Bard. \nLo psichiatra e saggista affronta i temi dell’omologazione sociale\, della dipendenza tecnologica e della perdita del senso critico\, offrendo una riflessione lucida e appassionata sulla società contemporanea. Attraverso un linguaggio diretto\, provocatorio e profondamente umano\, Crepet analizza il rischio di una generazione che ha smesso di sognare\, sostituendo la libertà con il conformismo digitale. Riprendersi l’Anima non è una semplice conferenza-spettacolo\, ma una esperienza teatrale che unisce pensiero\, emozione e confronto. \nBIGLIETTI\nPrevendite su Ticketone.it
URL:https://www.fortedibard.it/evento/paolo-crepet-in-riprendersi-lanima-un-intenso-monologo-teatrale/
ATTACH;FMTTYPE=image/jpeg:https://www.fortedibard.it/wp-content/uploads/2026/04/800x600_crepet.jpg
END:VEVENT
BEGIN:VEVENT
DTSTART;TZID=Europe/Rome:20260801T213000
DTEND;TZID=Europe/Rome:20260801T233000
DTSTAMP:20260421T150725
CREATED:20260213T144051Z
LAST-MODIFIED:20260409T133846Z
UID:10000126-1785619800-1785627000@www.fortedibard.it
SUMMARY:L'infinito tour di Raf al Forte di Bard per la rassegna Aosta Classica
DESCRIPTION:La programmazione di Aosta Classica al Forte di Bard 2026 quest’anno si concentrerà in larga parte sulla grande canzone d’autore declinata sotto differenti angolazioni e con interpreti molto eterogenei. Sabato 1° agosto 2026 sarà di scena Raf con lo spettacolo Infinito Tour. \nA 25 anni dall’uscita di Infinito\, uno dei brani manifesto della discografia di Raf – vero e proprio evergreen che continua a emozionarci -\, l’artista si esibirà in un concerto che sarà uno show intenso e trascinante\, un viaggio musicale che scandisce le tappe più significative di una carriera lunga oltre 40 anni\, fatta di migliaia di live\, 14 album pubblicati in studio\, più di 20 milioni di dischi venduti in tutto il mondo. \nRaf ha scritto e ha realizzato successi che hanno segnato la storia della discografia del nostro Paese – come Self Control\, Infinito\, Sei La Più Bella Del Mondo\, Il battito Animale\, Cosa Resterà degli Anni ‘80\, Ti Pretendo\, Stai con Me\, Non è mai un errore – hit amate da milioni di persone e in vetta alle classifiche in tutto il mondo\, brani senza tempo cantati anche dalle nuove generazioni. \nBIGLIETTI\nPoltrona centrale numerata: € 52\,00 + prev.\nSeconda poltrona: € 40\,00 + prev.\nTerza poltrona: € 35\,00 + prev.\nQuarta poltrona: € 30\,00 + prev.\nAcquista su Ticketone.it \nLe richieste per spettatori con disabilità motoria devono essere inviate a: info@aostaclassica.it\nVerranno soddisfatte fino ad esaurimento dei posti disponibili.
URL:https://www.fortedibard.it/evento/linfinito-tour-di-raf-al-forte-di-bard-per-la-rassegna-aosta-classica/
ATTACH;FMTTYPE=image/jpeg:https://www.fortedibard.it/wp-content/uploads/2026/02/800x600_Raf.jpg
END:VEVENT
BEGIN:VEVENT
DTSTART;TZID=Europe/Rome:20260805T213000
DTEND;TZID=Europe/Rome:20260805T233000
DTSTAMP:20260421T150725
CREATED:20260303T143026Z
LAST-MODIFIED:20260409T133729Z
UID:10000129-1785965400-1785972600@www.fortedibard.it
SUMMARY:Aldo Cazzullo in scena con Francesco: il primo italiano
DESCRIPTION:Il giornalista Aldo Cazzullo porta al Forte di Bard  lo spettacolo Francesco – il primo italiano. Una coproduzione Aosta Classica e Forte di Bard per celebrare la ricorrenza degli 800 anni dalla morte di San Francesco\, patrono d’Italia\, in programma mercoledì 5 agosto 2026\, alle ore 21.30. \nCazzullo racconta la storia del santo\, anzi le storie. Il San Francesco della devozione: il lupo\, la predica agli uccelli\, le stimmate. Il San Francesco della storia: la conversione\, la spoliazione\, il rapporto con il Papa\, la nascita dell’ordine\, la crociata\, l’incontro con il sultano. Il San Francesco poeta: il Cantico delle Creature. I grandi francescani\, dai terziari – Dante\, Colombo – ai santi: Sant’Antonio\, Padre Pio. Fino al primo Papa chiamato Francesco \nAttraverso questo racconto torna la figura di un santo meraviglioso\, e si ricostruisce un tassello prezioso dell’identità italiana. \nBIGLIETTI\nPosto unico: € 10\,00 + prev.\nAcquista su Ticketone.it \nLe richieste per spettatori con disabilità motoria devono essere inviate a: prenotazioni@fortedibard.it \n 
URL:https://www.fortedibard.it/evento/aldo-cazzullo-francesco-il-primo-italiano/
ATTACH;FMTTYPE=image/jpeg:https://www.fortedibard.it/wp-content/uploads/2026/03/800x600_cazzullo.jpg
END:VEVENT
BEGIN:VEVENT
DTSTART;TZID=Europe/Rome:20260822T213000
DTEND;TZID=Europe/Rome:20260822T233000
DTSTAMP:20260421T150725
CREATED:20260317T123947Z
LAST-MODIFIED:20260317T124049Z
UID:10000136-1787434200-1787441400@www.fortedibard.it
SUMMARY:Voglio tornare negli anni '90\, torna l'amatissimo live show
DESCRIPTION:Lo spettacolo Voglio tornare negli anni ’90 torna al Forte di Bard dopo il successo del 2025. L’evento si terrà sabato 22 agosto 2026 alle 21.30 nella Piazza d’Armi della fortezza. Il format prevede uno show multimediale immersivo con le hit dance degli anni ’90\, gadget e animazioni. Due ore di musica mixata dai performer ufficiali nel segno del divertimento. \nBIGLIETTI\nPrevendita su ticketsms.it\nI bambini fino a 6 anni entrano gratuitamente con prenotazione obbligatoria:\nprenotazioni@fortedibard.it
URL:https://www.fortedibard.it/evento/voglio-tornare-negli-anni-90-torna-lamatissimo-live-show/
ATTACH;FMTTYPE=image/jpeg:https://www.fortedibard.it/wp-content/uploads/2026/03/800x600_anni90.jpg
END:VEVENT
END:VCALENDAR